BEGIN:VCALENDAR
VERSION:2.0
PRODID:-//ChamberMaster//Event Calendar 2.0//EN
METHOD:PUBLISH
X-PUBLISHED-TTL:P3D
REFRESH-INTERVAL:P3D
CALSCALE:GREGORIAN
BEGIN:VEVENT
DTSTART:20241026T180000Z
DTEND:20241027T010000Z
X-MICROSOFT-CDO-ALLDAYEVENT:FALSE
SUMMARY:Creative Campus Open House
DESCRIPTION:Join Foothills Art Center for a Public Open House at our Creative Campus on Saturday\, October 26 from 12-7pm!\n\n\n\nAs a hub for vibrant art classes\, studio artists\, and diverse educational programs\, the Creative Campus invites you to explore its offerings. During the Public Open House\, you'll have the opportunity to mingle with the Creative Campus Studio Artists\, purchase art from Open Studio artists\, and see pottery demos in the ceramics studio.
X-ALT-DESC;FMTTYPE=text/html:<strong>Join Foothills Art Center for a Public Open House at our Creative Campus on Saturday\, October 26 from 12-7pm!</strong><br />\n<br />\nAs a hub for vibrant art classes\, studio artists\, and diverse educational programs\, the Creative Campus invites you to explore its offerings. During the Public Open House\, you&#39\;ll have the opportunity to mingle with the Creative Campus Studio Artists\, purchase art from Open Studio artists\, and see pottery demos in the ceramics studio.
LOCATION:Foothills Art Center - Creative Campus 809 15th St Golden\, CO 80401 Main entrance is located on the West side of the building\, next to the parking lot.
UID:e.551.10514
SEQUENCE:3
DTSTAMP:20260423T060918Z
URL:http://greatergoldenchamber.chambermaster.com/events/details/creative-campus-open-house-10514
END:VEVENT

END:VCALENDAR
