BEGIN:VCALENDAR
VERSION:2.0
PRODID:-//ChamberMaster//Event Calendar 2.0//EN
METHOD:PUBLISH
X-PUBLISHED-TTL:P3D
REFRESH-INTERVAL:P3D
CALSCALE:GREGORIAN
BEGIN:VEVENT
DTSTART:20220417T150000Z
DTEND:20220417T203000Z
X-MICROSOFT-CDO-ALLDAYEVENT:FALSE
SUMMARY:Easter Brunch
DESCRIPTION:Easter Brunch is back at The Vista! Join us on Easter Sunday\, April 17th\, between 9:00am and 2:30pm for our annual Easter Brunch! We will seat reservations every half hour until 2:00pm. If you have any questions or would like to make your reservation\, please reach out to Macey at 303.278.6637 or at mhirsch@applewoodgc.com
X-ALT-DESC;FMTTYPE=text/html:Easter Brunch is back at The Vista! Join us on Easter Sunday\, April 17th\, between 9:00am and 2:30pm for our annual Easter Brunch! We will seat reservations every half hour until 2:00pm. If you have any questions or would like to make your reservation\, please reach out to Macey at 303.278.6637 or at mhirsch@applewoodgc.com
LOCATION:14001 W. 32nd Ave Golden\, CO 80401
UID:e.551.8595
SEQUENCE:3
DTSTAMP:20260424T021220Z
URL:http://greatergoldenchamber.chambermaster.com/events/details/easter-brunch-8595
END:VEVENT

END:VCALENDAR
