BEGIN:VCALENDAR
VERSION:2.0
PRODID:-//ChamberMaster//Event Calendar 2.0//EN
METHOD:PUBLISH
X-PUBLISHED-TTL:P3D
REFRESH-INTERVAL:P3D
CALSCALE:GREGORIAN
BEGIN:VEVENT
DTSTART:20260509T190000Z
DTEND:20260509T220000Z
X-MICROSOFT-CDO-ALLDAYEVENT:FALSE
SUMMARY:Emily Dwan Art Ehibition
DESCRIPTION:Spring Art Reception\n\n \n\nJoin us for a special evening celebrating the spring collection of local artist Emily Dwan. Explore a vibrant selection of original paintings alongside a newly released series of stained glass mosaic works. The reception will also feature the unveiling of an extremely special new painting. \n\n \n\nDiscover more of Emily's work at EmilyDwan.com\, where you'll find fine art prints\, original paintings\, and one-of-a-kind stained glass mosaic pieces.\n\n \n\nLight refreshments will be served\, parking is available\, and children are welcome. \n\n \n\nWe look forward to welcoming you.\n\n \n\nA big thank you to ProSource for hosting this event.
X-ALT-DESC;FMTTYPE=text/html:<p>Spring Art Reception</p>\n\n<p>&nbsp\;</p>\n\n<p>Join us for a special evening celebrating the spring collection of local artist Emily Dwan. Explore a vibrant selection of original paintings alongside a newly released series of stained glass mosaic works. The reception will also feature the unveiling of an extremely special new painting.&nbsp\;</p>\n\n<p>&nbsp\;</p>\n\n<p>Discover more of Emily&rsquo\;s work at EmilyDwan.com\, where you&rsquo\;ll find fine art prints\, original paintings\, and one-of-a-kind stained glass mosaic pieces.</p>\n\n<p>&nbsp\;</p>\n\n<p>Light refreshments will be served\, parking is available\, and children are welcome.&nbsp\;</p>\n\n<p>&nbsp\;</p>\n\n<p>We look forward to welcoming you.</p>\n\n<p>&nbsp\;</p>\n\n<p>A big thank you to ProSource for hosting this event.&nbsp\;</p>\n
LOCATION:1010 10th St Golden CO\, 80401
UID:e.551.15092
SEQUENCE:3
DTSTAMP:20260421T042954Z
URL:http://greatergoldenchamber.chambermaster.com/events/details/emily-dwan-art-ehibition-15092
END:VEVENT

END:VCALENDAR
