BEGIN:VCALENDAR
VERSION:2.0
PRODID:-//ChamberMaster//Event Calendar 2.0//EN
METHOD:PUBLISH
X-PUBLISHED-TTL:P3D
REFRESH-INTERVAL:P3D
CALSCALE:GREGORIAN
BEGIN:VEVENT
DTSTART:20241012T170000Z
DTEND:20241013T010000Z
X-MICROSOFT-CDO-ALLDAYEVENT:FALSE
SUMMARY:GCB's ChiliFest
DESCRIPTION:Join GCB and 12 ChiliChefs as they compete for Best Chili in Golden and win Beer for a year! This is our annual fundraiser for the CAG's Food Pantry.  Each year since 1998 GCB has hosted a ChiliFest fundraising event\, which evolved from the annual Turkey Fry.  In past years the funds raised for the CAG were used to purchase coolers\, and increase the items offered by the food pantry.  Each year the ChiliChef competition gets more and more fierce and reigning champions ever improve their chili.  All chili styles are welcome!
X-ALT-DESC;FMTTYPE=text/html:<span style="font-size:14px"><span style="color:rgb(24\, 24\, 24)\; font-family:wfont_939427_945bcbb669a7467d816a6b37d9bb3074\,wf_945bcbb669a7467d816a6b37d\,orig_haettenschweiler">Join GCB and 12 ChiliChefs as they compete for Best Chili in Golden and win Beer for a year! This is our annual fundraiser for the CAG&#39\;s Food Pantry.&nbsp\; Each year since 1998 GCB has hosted a ChiliFest fundraising event\, which evolved from the annual Turkey Fry.&nbsp\; In past years the funds raised for the CAG were used to purchase coolers\, and increase the items offered by the food pantry.&nbsp\; Each year the ChiliChef competition gets more and more fierce and reigning champions ever improve their chili.&nbsp\; All chili styles are welcome!</span></span>
LOCATION:Golden City Brewery 920 12th ST Golden\, CO 80401
UID:e.551.9653
SEQUENCE:3
DTSTAMP:20260423T221824Z
URL:http://greatergoldenchamber.chambermaster.com/events/details/gcb-s-chilifest-9653
END:VEVENT

END:VCALENDAR
