BEGIN:VCALENDAR
VERSION:2.0
PRODID:-//ChamberMaster//Event Calendar 2.0//EN
METHOD:PUBLISH
X-PUBLISHED-TTL:P3D
REFRESH-INTERVAL:P3D
CALSCALE:GREGORIAN
BEGIN:VEVENT
DTSTART:20250425T000000Z
DTEND:20250425T011500Z
X-MICROSOFT-CDO-ALLDAYEVENT:FALSE
SUMMARY:Secure Retirement & Social Security Class
DESCRIPTION:Secure Retirement & Social Security Class: If you know anyone who is thinking about retiring in the next 10 years or who is already in early retirement\, this would be great information for them.\n\nWe will have a National Social Security Adviser giving a short talk. They are also available for questions. This is in addition to a talk on the financial part of retirement. \n\nThursday\, 4/24/25 from 6-7:15 pm. Evergreen Library\, Meeting Room A: 5000 Highway 73\, Evergreen\, CO\, 80439.\n\n\n\nRSVP by texting Amelia or using the Eventbrite link below. 720 722 009\n\n\n\nhttps://www.eventbrite.com/o/43458463583
X-ALT-DESC;FMTTYPE=text/html:<p><span style="font-family:uictfonttextstylebody">Secure Retirement &amp\; Social Security Class:&nbsp\;</span><span style="font-family:uictfonttextstylebody">If you know anyone who is thinking about retiring in the next 10 years or who is already in early retirement\, this would be great information for them.</span></p>\n\n<p><span style="font-family:uictfonttextstylebody">We will have a National Social Security Adviser giving a short talk. They are also available for questions. This is in&nbsp\;addition to a talk on the financial part of retirement.&nbsp\;</span></p>\n\n<p><span style="font-family:uictfonttextstylebody">Thursday\, 4/24/25 from 6-7:15 pm. Evergreen Library\, Meeting Room A: 5000 Highway 73\, Evergreen\, CO\, 80439.<br />\n<br />\nRSVP by texting Amelia or using the Eventbrite link below. <a href="tel:720?722?009">720&ndash\;722&ndash\;009</a></span><br />\n<br />\n<a href="https://www.eventbrite.com/o/43458463583">https://www.eventbrite.com/o/43458463583</a></p>\n
LOCATION:Meeting Room A: 5000 Highway 73\, Evergreen\, CO\, 80439.
UID:e.551.12121
SEQUENCE:3
DTSTAMP:20260421T192856Z
URL:http://greatergoldenchamber.chambermaster.com/events/details/secure-retirement-social-security-class-12121
END:VEVENT

END:VCALENDAR
