BEGIN:VCALENDAR
VERSION:2.0
PRODID:-//ChamberMaster//Event Calendar 2.0//EN
METHOD:PUBLISH
X-PUBLISHED-TTL:P3D
REFRESH-INTERVAL:P3D
CALSCALE:GREGORIAN
BEGIN:VEVENT
DTSTART:20250228T003000Z
DTEND:20250228T023000Z
X-MICROSOFT-CDO-ALLDAYEVENT:FALSE
SUMMARY:Speed Networking with 3 Chambers!
DESCRIPTION:Meet great new contacts in our high paced engaging evening\, hosted by the Evergreen Chamber\, Golden Chamber\, and Conifer Chamber. \n\n\n\nLight appetizers and non-alcoholic beverages will be provided.  Cash bar available. \n\n\n\nBring lots of business cards and join the conversation!
X-ALT-DESC;FMTTYPE=text/html:Meet great new contacts in our high paced engaging evening\, hosted by the Evergreen Chamber\, Golden Chamber\, and Conifer Chamber.&nbsp\;<br />\n<br />\nLight appetizers and non-alcoholic beverages will be provided.&nbsp\; Cash bar available.&nbsp\;<br />\n<br />\nBring lots of business cards and join the conversation!
LOCATION:Hiwan Golf Club 30671 Clubhouse Lane Evergreen\, CO 80439
UID:e.551.10959
SEQUENCE:3
DTSTAMP:20260421T071850Z
URL:http://greatergoldenchamber.chambermaster.com/events/details/speed-networking-with-3-chambers-10959
END:VEVENT

END:VCALENDAR
